Mailing List Archive

[ovmf test] 139186: all pass - PUSHED
flight 139186 ovmf real [real]
http://logs.test-lab.xenproject.org/osstest/logs/139186/

Perfect :-)
All tests in this flight passed as required
version targeted for testing:
ovmf 8ff68cd5e4c91c97f36ac0f44d9f2b4ea12b5e0d
baseline version:
ovmf 296c908c6968910ea7c4496b94cfba1e52212de2

Last test of basis 139157 2019-07-19 09:08:59 Z 1 days
Testing same since 139186 2019-07-19 18:39:17 Z 0 days 1 attempts

------------------------------------------------------------
People who touched revisions under test:
Imran Desai <imran.desai@intel.com>
Jiewen Yao <jiewen.yao@intel.com>
Krzysztof Koch <krzysztof.koch@arm.com>
Zhichao Gao <zhichao.gao@intel.com>

jobs:
build-amd64-xsm pass
build-i386-xsm pass
build-amd64 pass
build-i386 pass
build-amd64-libvirt pass
build-i386-libvirt pass
build-amd64-pvops pass
build-i386-pvops pass
test-amd64-amd64-xl-qemuu-ovmf-amd64 pass
test-amd64-i386-xl-qemuu-ovmf-amd64 pass


------------------------------------------------------------
sg-report-flight on osstest.test-lab.xenproject.org
logs: /home/logs/logs
images: /home/logs/images

Logs, config files, etc. are available at
http://logs.test-lab.xenproject.org/osstest/logs

Explanation of these reports, and of osstest in general, is at
http://xenbits.xen.org/gitweb/?p=osstest.git;a=blob;f=README.email;hb=master
http://xenbits.xen.org/gitweb/?p=osstest.git;a=blob;f=README;hb=master

Test harness code can be found at
http://xenbits.xen.org/gitweb?p=osstest.git;a=summary


Pushing revision :

To xenbits.xen.org:/home/xen/git/osstest/ovmf.git
296c908c69..8ff68cd5e4 8ff68cd5e4c91c97f36ac0f44d9f2b4ea12b5e0d -> xen-tested-master

_______________________________________________
Xen-devel mailing list
Xen-devel@lists.xenproject.org
https://lists.xenproject.org/mailman/listinfo/xen-devel